Workbook
Name Circularity: #REF!

Sheet __FDSCACHE__
B1: This sheet contains FactSet XML data for use with this workbook's =FDS codes. Modifying the worksheet's contents may damage the workbook's =FDS functionality.

Sheet README
B2: Color Key:
B4: Hardcoded Input
B5: Linked from another sheet
B6: Formula
B7: Update for changes over time

Sheet Assumptions
B2: A10 Networks, Inc.
A4: p | B4: General:
B5: Date | D5: =TODAY() -> 46293
B6: Sector | D6: Information Technology
B7: Company Ticker | D7: ATEN
B8: Fiscal Year End | D8: 46387
B9: Last Updated | D9: 46275
B10: Last Price (USD) | D10: 24.39
B12: Model Assumptions
B14: Active Scenario | D14: 1 | J14: Commentary
D15: 2
B16: Circuit Breaker | D16: 0 | E16: <--- ON = 1, OFF = 0
A19: p | B19: Scenario Manager: | F19: =IF(F20=$D$20,"Active","") -> Active | G19: =IF(G20=$D$20,"Active","") | H19: =IF(H20=$D$20,"Active","")
B20: Scenario Case | D20: =OFFSET(E20,0,$D$14) -> 1 | F20: 1 | G20: =F20+1 -> 2 | H20: =G20+1 -> 3
B21: Scenario Description | D21: =OFFSET(E21,0,$D$14) -> Base | F21: Base | G21: Conservative | H21: Bullish
A23: p | B23: Miscelaneous:
B25: Days / Year | D25: =OFFSET(E25,0,$D$14) -> 365 | F25: 365 | G25: 365 | H25: 365
B26: Last Fiscal Year End | D26: =OFFSET(E26,0,$D$14) -> 46022 | F26: 46022 | G26: 46022 | H26: 46022
B27: Last Fiscal Period End | D27: =OFFSET(E27,0,$D$14) -> 46203 | F27: 46203 | G27: 46203 | H27: 46203
B28: Next Fiscal Year End | D28: =OFFSET(E28,0,$D$14) -> 46387 | F28: =EOMONTH(F27,6) -> 46387 | G28: =EOMONTH(G27,6) -> 46387 | H28: =EOMONTH(H27,6) -> 46387
B29: Stub Period | D29: =OFFSET(E29,0,$D$14) -> 0.30684932 | F29: =YEARFRAC($D$9,F28,1) -> 0.30684932 | G29: =YEARFRAC($D$9,G28,1) -> 0.30684932 | H29: =YEARFRAC($D$9,H28,1) -> 0.30684932
B30: Discount Period Increment | D30: =OFFSET(E30,0,$D$14) -> 1 | F30: 1 | G30: 1 | H30: 1 | I30: <--- Yearly =1, Quarterly = .25
B31: Units | D31: =OFFSET(E31,0,$D$14) -> ($ in Millions) | F31: ($ in Millions) | G31: ($ in Millions) | H31: ($ in Millions)
B32: Forecast End | D32: =OFFSET(E32,0,$D$14) -> 47848 | F32: 47848 | G32: 47848 | H32: 47848
B33: Forecast Years | D33: =OFFSET(E33,0,$D$14) -> 4.5043812 | F33: =YEARFRAC(F27,F32,1) -> 4.5043812 | G33: =YEARFRAC(G27,G32,1) -> 4.5043812 | H33: =YEARFRAC(H27,H32,1) -> 4.5043812
B34: Forecast Year (Round-Up) | D34: =OFFSET(E34,0,$D$14) -> 5 | F34: =ROUNDUP(F33,0) -> 5 | G34: =ROUNDUP(G33,0) -> 5 | H34: =ROUNDUP(H33,0) -> 5
A36: p | B36: Capitalization:
B38: Shares Outs. (mm) | D38: =OFFSET(E38,0,$D$14) -> 72.609021 | F38: 72.609021 | G38: 72.609021 | H38: 72.609021
B39: In-the-Money Convertible Debt | D39: =OFFSET(E39,0,$D$14) -> 0 | F39: =IF(OR(F51=1,F80="Yes"),F85,0) -> 0 | G39: =IF(OR(G51=1,G80="Yes"),G85,0) -> 0 | H39: =IF(OR(H51=1,H80="Yes"),H85,0) -> 0 | J39: <-- Dependent on conversion override toggle and conversion expected calc below
B40: RSU & PSUs | D40: =OFFSET(E40,0,$D$14) -> 2.75 | F40: 2.75 | G40: 2.75 | H40: 2.75
B41: ESPP | D41: =OFFSET(E41,0,$D$14) -> -1.5384615 | F41: -1.5384615 | G41: -1.5384615 | H41: -1.5384615
B42: MSFT Warrant | D42: =OFFSET(E42,0,$D$14) -> 0
B43: Fully Diluted Shares Outs. (mm) | D43: =OFFSET(E43,0,$D$14) -> 73.820559 | F43: =SUM(F38:F42) -> 73.820559 | G43: =SUM(G38:G42) -> 73.820559 | H43: =SUM(H38:H42) -> 73.820559
B44: Market Capalization | D44: =OFFSET(E44,0,$D$14) -> 1800.4834 | F44: =F43*$D$10 -> 1800.4834 | G44: =G43*$D$10 -> 1800.4834 | H44: =H43*$D$10 -> 1800.4834
B46: Total Debt | D46: =OFFSET(E46,0,$D$14) -> 225 | F46: =F53 -> 225 | G46: =G53 -> 225 | H46: =H53 -> 225 | J46: Principal value 2030 notes. A10 has no other outstanding debt
A48: p | B48: 2030 Convertible Senior Notes: | J48: Interest payable semi-annually on April 1 and October 1, Soft Call available 4/05/2028 and free convertibility from 12/01/2029
K49: Assumes that A10 will not call, and holders will not elect to convert after 12/01/2029
B50: Refinance Toggle | D50: =OFFSET(E50,0,$D$14) -> 1 | F50: 1 | G50: 1 | H50: 1 | I50: <--- ON = 1, OFF = 0 | J50: FCFE is forcasted to 2030, when convertibles are due. Assumes they are refinanced for accuracy of terminal year, excess over aggregate principal being payed in stock
B51: Conversion Override Toggle | D51: =OFFSET(E51,0,$D$14) -> 0 | F51: 0 | G51: 0 | H51: 0 | I51: <--- ON = 1, OFF = 0
B53: Principal | D53: =OFFSET(E53,0,$D$14) -> 225 | F53: 225 | G53: 225 | H53: 225
...

Sheet Cash Flow Assumptions
C2: =Assumptions!$B$2 -> A10 Networks, Inc.
C4: Active Scenario:
C6: Scenario Case | E6: =Assumptions!D14 -> 1
C7: Scenario Description | E7: =Assumptions!$D$21 -> Base
G8: 45930 | H8: =EOMONTH(G8,3) -> 46022 | I8: =EOMONTH(H8,3) -> 46112 | J8: =EOMONTH(I8,3) -> 46203 | K8: =EOMONTH(J8,3) -> 46295 | L8: =EOMONTH(K8,3) -> 46387 | N8: =(_xlfn.XLOOKUP(N11,F11:L11,F8:L8)) -> 45930 | O8: =(_xlfn.XLOOKUP(O11,G11:L11,G8:L8)) -> 46295 | P8: =EOMONTH(O8,12) -> 46660 | Q8: =EOMONTH(P8,12) -> 47026 | R8: =EOMONTH(Q8,12) -> 47391 | S8: =EOMONTH(R8,12) -> 47756
G9: =YEAR(G8) -> 2025 | H9: =YEAR(H8) -> 2025 | I9: =YEAR(I8) -> 2026 | J9: =YEAR(J8) -> 2026 | K9: =YEAR(K8) -> 2026 | L9: =YEAR(L8) -> 2026 | O9: =YEAR(O8) -> 2026 | P9: =YEAR(P8) -> 2027 | Q9: =YEAR(Q8) -> 2028 | R9: =YEAR(R8) -> 2029 | S9: =YEAR(S8) -> 2030
G10: ="Q"&ROUNDUP(MONTH(G8)/3,0)&"'"&TEXT(G8,"yy") -> Q3'25 | H10: ="Q"&ROUNDUP(MONTH(H8)/3,0)&"'"&TEXT(H8,"yy") -> Q4'25 | I10: ="Q"&ROUNDUP(MONTH(I8)/3,0)&"'"&TEXT(I8,"yy") -> Q1'26 | J10: ="Q"&ROUNDUP(MONTH(J8)/3,0)&"'"&TEXT(J8,"yy") -> Q2'26 | K10: ="Q"&ROUNDUP(MONTH(K8)/3,0)&"'"&TEXT(K8,"yy") -> Q3'26 | L10: ="Q"&ROUNDUP(MONTH(L8)/3,0)&"'"&TEXT(L8,"yy") -> Q4'26 | N10: ="FY"&"'"&TEXT(N8,"yy") -> FY'25 | O10: ="FY"&"'"&TEXT(O8,"yy") -> FY'26 | P10: ="FY"&"'"&TEXT(P8,"yy") -> FY'27 | Q10: ="FY"&"'"&TEXT(Q8,"yy") -> FY'28 | R10: ="FY"&"'"&TEXT(R8,"yy") -> FY'29 | S10: ="FY"&"'"&TEXT(S8,"yy") -> FY'30
G11: Actual | H11: Actual | I11: Actual | J11: Actual | K11: Forcast | L11: Forcast | N11: Actual | O11: Forcast | P11: Forcast | Q11: Forcast | R11: Forcast | S11: Forcast
B14: p | C14: Total Revenue | G14: ='Historical Financials'!X13 -> 74.682 | H14: ='Historical Financials'!Y13 -> 80.355 | I14: ='Historical Financials'!Z13 -> 75 | J14: ='Historical Financials'!AA13 -> 80.137 | K14: =SUM(K18,K24) -> 0 | L14: =SUM(L18,L24) -> 0 | N14: ='Historical Financials'!H13 -> 290.557 | O14: =SUM(O18,O24) -> 320.46115 | P14: =SUM(P18,P24) -> 363.85973 | Q14: =SUM(Q18,Q24) -> 432.01209 | R14: =SUM(R18,R24) -> 456.35915 | S14: =SUM(S18,S24) -> 483.56529
C16: Memo: Growth YoY % | N16: ='Historical Financials'!H36 -> 0.11028445 | O16: =O14/N14-1 -> 0.10292009 | P16: =P14/O14-1 -> 0.13542538 | Q16: =Q14/P14-1 -> 0.18730394 | R16: =R14/Q14-1 -> 0.056357359 | S16: =S14/R14-1 -> 0.059615638
U17: Microsoft ( % )
C18: ( + ) Est. Microsoft Revenue ($) | G18: =$U$18*G14 -> 28.37916 | H18: =$U$18*H14 -> 30.5349 | I18: =$U$18*I14 -> 28.5 | J18: =$U$18*J14 -> 30.45206 | N18: =N14*U18 -> 110.41166 | O18: =(1+OFFSET(O19,$E$6,0))*N18 -> 130.03338 | P18: =(1+OFFSET(P19,$E$6,0))*O18 -> 157.08175 | Q18: =(1+OFFSET(Q19,$E$6,0))*P18 -> 197.63169 | R18: =(1+OFFSET(R19,$E$6,0))*Q18 -> 221.39635 | S18: =(1+OFFSET(S19,$E$6,0))*R18 -> 248.01865 | U18: 0.38
C20: Base | H20: =H18/G18-1 -> 0.075962079 | I20: =I18/H18-1 -> -0.066641777 | J20: =J18/I18-1 -> 0.068493333 | O20: =27.7714234452443%+$U$20 -> 0.17771423 | P20: =30.8010952748719%+$U$20 -> 0.20801095 | Q20: =35.8145464304885%+$U$20 -> 0.25814546 | R20: =22.0247211216394%+$U$20 -> 0.12024721 | S20: =R20 -> 0.12024721 | U20: -0.1
C21: Conservative | O21: =O20+$U21 -> 0.12771423 | P21: =P20+$U21 -> 0.15801095 | Q21: =Q20+$U21 -> 0.20814546 | R21: =R20+$U21 -> 0.070247211 | S21: =S20+$U21 -> 0.070247211 | U21: -0.05
C22: Bullish | O22: =O20+$U22 -> 0.22771423 | P22: =P20+$U22 -> 0.25801095 | Q22: =Q20+$U22 -> 0.30814546 | R22: =R20+$U22 -> 0.17024721 | S22: =S20+$U22 -> 0.17024721 | U22: 0.05
C24: ( + ) Total Revenue, excl. Microsoft ($) | N24: =N14-N18 -> 180.14534 | O24: =(1+OFFSET(O25,$E$6,0))*N24*(1-(O32-N32)) -> 190.42777 | P24: =(1+OFFSET(P25,$E$6,0))*O24*(1-(P32-O32)) -> 206.77798 | Q24: =(1+OFFSET(Q25,$E$6,0))*P24*(1-(Q32-P32)) -> 234.38039 | R24: =(1+OFFSET(R25,$E$6,0))*Q24*(1-(R32-Q32)) -> 234.96279 | S24: =(1+OFFSET(S25,$E$6,0))*R24*(1-(S32-R32)) -> 235.54664
C26: Base | O26: =O20+$U26 -> 0.11271423 | P26: =P20+$U26 -> 0.14301095 | Q26: =Q20+$U26 -> 0.19314546 | R26: =R20+$U26 -> 0.055247211 | S26: =S20+$U26 -> 0.055247211 | U26: -0.065 | V26: <--Growth Dif. Vs. Microsoft
C27: Conservative | O27: =O21+$U27 -> 0.057714234 | P27: =P21+$U27 -> 0.088010953 | Q27: =Q21+$U27 -> 0.13814546 | R27: =R21+$U27 -> 0.00024721122 | S27: =S21+$U27 -> 0.00024721122 | U27: -0.07
C28: Bullish | O28: =O22+$U28 -> 0.16771423 | P28: =P22+$U28 -> 0.19801095 | Q28: =Q22+$U28 -> 0.24814546 | R28: =R22+$U28 -> 0.11024721 | S28: =S22+$U28 -> 0.11024721 | U28: -0.06
C30: Microsoft % of Total Revenue | N30: =OFFSET(N31,$E$6,0) -> 0.38 | O30: =OFFSET(O31,$E$6,0) -> 0.43 | P30: =OFFSET(P31,$E$6,0) -> 0.48 | Q30: =OFFSET(Q31,$E$6,0) -> 0.53 | R30: =OFFSET(R31,$E$6,0) -> 0.58 | S30: =OFFSET(S31,$E$6,0) -> 0.63
C32: Base | N32: =38% -> 0.38 | O32: =N32+$U$32 -> 0.43 | P32: =O32+$U$32 -> 0.48 | Q32: =P32+$U$32 -> 0.53 | R32: =Q32+$U$32 -> 0.58 | S32: =R32+$U$32 -> 0.63 | U32: ='OUT-DCF'!P46 -> 0.05
C33: Conservative | N33: =N32 -> 0.38 | O33: =N33+$U$33 -> 0.355 | P33: =O33+$U$33 -> 0.33 | Q33: =P33+$U$33 -> 0.305 | R33: =Q33+$U$33 -> 0.28 | S33: =R33+$U$33 -> 0.255 | U33: -0.025
C34: Bullish | N34: =N33 -> 0.38 | O34: =N34+$U$34 -> 0.455 | P34: =O34+$U$34 -> 0.53 | Q34: =P34+$U$34 -> 0.605 | R34: =Q34+$U$34 -> 0.68 | S34: =R34+$U$34 -> 0.755 | U34: 0.075
B36: p | C36: Services Revenue | G36: ='Historical Financials'!X12 -> 31.573 | H36: ='Historical Financials'!Y12 -> 31.53 | I36: ='Historical Financials'!Z12 -> 31.014 | J36: ='Historical Financials'!AA12 -> 31.113 | N36: ='Historical Financials'!H12 -> 123.471 | O36: =(1+OFFSET(O37,$E$6,0))*N36 -> 126.75071 | P36: =(1+OFFSET(P37,$E$6,0))*O36 -> 130.11753 | Q36: =(1+OFFSET(Q37,$E$6,0))*P36 -> 133.57378 | R36: =(1+OFFSET(R37,$E$6,0))*Q36 -> 137.12185 | S36: =(1+OFFSET(S37,$E$6,0))*R36 -> 140.76415
C38: Base | G38: ='Historical Financials'!X35 -> 0.057403128 | H38: ='Historical Financials'!Y35 -> 0.021413068 | I38: ='Historical Financials'!Z35 -> 0.028383845 | J38: ='Historical Financials'!AA35 -> 0.029890765 | N38: ='Historical Financials'!H35 -> 0.012912541 | O38: =AVERAGE('Historical Financials'!$Y$35:$AA$35) -> 0.026562559 | P38: =O38 -> 0.026562559 | Q38: =P38 -> 0.026562559 | R38: =Q38 -> 0.026562559 | S38: =R38 -> 0.026562559 | U38: Step
C39: Conservative | G39: =G38 -> 0.057403128 | H39: =H38 -> 0.021413068 | I39: =I38 -> 0.028383845 | J39: =J38 -> 0.029890765 | O39: =O38+$U39 -> 0.022062559 | P39: =O39+$U39 -> 0.017562559 | Q39: =P39+$U39 -> 0.013062559 | R39: =Q39+$U39 -> 0.0085625593 | S39: =R39+$U39 -> 0.0040625593 | U39: -0.0045
C40: Bullish | G40: =G39 -> 0.057403128 | H40: =H39 -> 0.021413068 | I40: =I39 -> 0.028383845 | J40: =J39 -> 0.029890765 | O40: =O38+$U40 -> 0.031062559 | P40: =O40+$U40 -> 0.035562559 | Q40: =P40+$U40 -> 0.040062559 | R40: =Q40+$U40 -> 0.044562559 | S40: =R40+$U40 -> 0.049062559 | U40: 0.0045
B42: p | C42: Implied Product Revenue | G42: ='Historical Financials'!X11 -> 43.109 | H42: ='Historical Financials'!Y11 -> 48.825 | I42: ='Historical Financials'!Z11 -> 43.986 | J42: ='Historical Financials'!AA11 -> 49.024 | K42: =K14-K36 -> 0 | L42: =L14-L36 -> 0 | N42: ='Historical Financials'!H11 -> 167.086 | O42: =O14-O36 -> 193.71045 | P42: =P14-P36 -> 233.7422 | Q42: =Q14-Q36 -> 298.4383 | R42: =R14-R36 -> 319.2373 | S42: =S14-S36 -> 342.80114
C43: Memo: Growth YoY % | N43: ='Historical Financials'!H34 -> 0.19518738 | O43: =O42/N42-1 -> 0.15934577 | P43: =P42/O42-1 -> 0.20665767 | Q43: =Q42/P42-1 -> 0.27678402 | R43: =R42/Q42-1 -> 0.069692792 | S43: =S42/R42-1 -> 0.07381291
B45: p | C45: Product COGS (Margin) | G45: ='Historical Financials'!X14 -> 8.101 | H45: ='Historical Financials'!Y14 -> 9.842 | I45: ='Historical Financials'!Z14 -> 8.93 | J45: ='Historical Financials'!AA14 -> 10.079 | K45: =OFFSET(K46,$E$6,0)*K14 -> 0 | N45: ='Historical Financials'!H14 -> 33.403 | O45: =(OFFSET(O46,$E$6,0))*O42 -> 38.725627 | P45: =(OFFSET(P46,$E$6,0))*P42 -> 46.728575 | Q45: =(OFFSET(Q46,$E$6,0))*Q42 -> 59.662297 | R45: =(OFFSET(R46,$E$6,0))*R42 -> 63.82033 | S45: =(OFFSET(S46,$E$6,0))*S42 -> 68.531094
C47: Base | G47: ='Historical Financials'!X37 -> 0.187919 | H47: ='Historical Financials'!Y37 -> 0.20157706 | I47: ='Historical Financials'!Z37 -> 0.20301914 | J47: ='Historical Financials'!AA37 -> 0.20559318 | K47: 0.205 | N47: ='Historical Financials'!H37 -> 0.19991501 | O47: =N47 -> 0.19991501 | P47: =O47 -> 0.19991501 | Q47: =P47 -> 0.19991501 | R47: =Q47 -> 0.19991501 | S47: =R47 -> 0.19991501 | U47: Step
C48: Conservative | G48: =G47 -> 0.187919 | H48: =H47 -> 0.20157706 | I48: =I47 -> 0.20301914 | J48: =J47 -> 0.20559318 | O48: =O47+$U48 -> 0.20241501 | P48: =O48+$U48 -> 0.20491501 | Q48: =P48+$U48 -> 0.20741501 | R48: =Q48+$U48 -> 0.20991501 | S48: =R48+$U48 -> 0.21241501 | U48: 0.0025
C49: Bullish | G49: =G48 -> 0.187919 | H49: =H48 -> 0.20157706 | I49: =I48 -> 0.20301914 | J49: =J48 -> 0.20559318 | O49: =O48+$U49 -> 0.19991501 | P49: =O49+$U49 -> 0.19741501 | Q49: =P49+$U49 -> 0.19491501 | R49: =Q49+$U49 -> 0.19241501 | S49: =R49+$U49 -> 0.18991501 | U49: -0.0025
B51: p | C51: Services COGS (YoY Growth ( % )) | G51: ='Historical Financials'!X15 -> 6.729 | H51: ='Historical Financials'!Y15 -> 7.256 | I51: ='Historical Financials'!Z15 -> 6.346 | J51: ='Historical Financials'!AA15 -> 6.677 | N51: ='Historical Financials'!H15 -> 26.639 | O51: =(1+OFFSET(O52,$E$6,0))*N51 -> 27.3466 | P51: =(1+OFFSET(P52,$E$6,0))*O51 -> 28.072996 | Q51: =(1+OFFSET(Q52,$E$6,0))*P51 -> 28.818686 | R51: =(1+OFFSET(R52,$E$6,0))*Q51 -> 29.584184 | S51: =(1+OFFSET(S52,$E$6,0))*R51 -> 30.370016
C53: Base | G53: ='Historical Financials'!X38 -> 0.21312514 | H53: ='Historical Financials'!Y38 -> 0.23013003 | I53: ='Historical Financials'!Z38 -> 0.20461727 | J53: ='Historical Financials'!AA38 -> 0.21460483 | K53: =AVERAGE('Historical Financials'!F38:H38) -> 0.17686023 | O53: =O38 -> 0.026562559 | P53: =P38 -> 0.026562559 | Q53: =Q38 -> 0.026562559 | R53: =R38 -> 0.026562559 | S53: =S38 -> 0.026562559 | U53: Step
C54: Conservative | G54: =G53 -> 0.21312514 | H54: =H53 -> 0.23013003 | I54: =I53 -> 0.20461727 | J54: =J53 -> 0.21460483 | O54: =O53+$U54 -> 0.031562559 | P54: =O54+$U54 -> 0.036562559 | Q54: =P54+$U54 -> 0.041562559 | R54: =Q54+$U54 -> 0.046562559 | S54: =R54+$U54 -> 0.051562559 | U54: 0.005
C55: Bullish | G55: =G54 -> 0.21312514 | H55: =H54 -> 0.23013003 | I55: =I54 -> 0.20461727 | J55: =J54 -> 0.21460483 | O55: =O54+$U55 -> 0.029062559 | P55: =O55+$U55 -> 0.026562559 | Q55: =P55+$U55 -> 0.024062559 | R55: =Q55+$U55 -> 0.021562559 | S55: =R55+$U55 -> 0.019062559 | U55: -0.0025
B57: p | C57: S&M (Margin) | G57: ='Historical Financials'!X17 -> 21.531 | H57: ='Historical Financials'!Y17 -> 22.427 | I57: ='Historical Financials'!Z17 -> 20.014 | J57: ='Historical Financials'!AA17 -> 21.905 | N57: ='Historical Financials'!H17 -> 84.467 | O57: =(OFFSET(O58,$E$6,0))*O14 -> 89.620569 | P57: =(OFFSET(P58,$E$6,0))*P14 -> 101.75747 | Q57: =(OFFSET(Q58,$E$6,0))*Q14 -> 120.81704 | R57: =(OFFSET(R58,$E$6,0))*R14 -> 127.62597 | S57: =(OFFSET(S58,$E$6,0))*S14 -> 135.23448
C59: Base | G59: ='Historical Financials'!X39 -> 0.2883024 | H59: ='Historical Financials'!Y39 -> 0.279099 | I59: ='Historical Financials'!Z39 -> 0.26685333 | J59: ='Historical Financials'!AA39 -> 0.2733444 | N59: ='Historical Financials'!H39 -> 0.29070716 | O59: =AVERAGE(N59,G59:J59) -> 0.27966126 | P59: =O59 -> 0.27966126 | Q59: =P59 -> 0.27966126 | R59: =Q59 -> 0.27966126 | S59: =R59 -> 0.27966126 | U59: Step
C60: Conservative | G60: =G59 -> 0.2883024 | H60: =H59 -> 0.279099 | I60: =I59 -> 0.26685333 | J60: =J59 -> 0.2733444 | O60: =O59+$U60 -> 0.26966126 | P60: =O60+$U60 -> 0.25966126 | Q60: =P60+$U60 -> 0.24966126 | R60: =Q60+$U60 -> 0.23966126 | S60: =R60+$U60 -> 0.22966126 | U60: -0.01
...

Sheet NWC Calc
B2: =Assumptions!$B$2 -> A10 Networks, Inc.
A4: s | C4: Δ Net Working Capital
C5: ='Historical Financials'!E5 -> FY'22 | D5: ='Historical Financials'!F5 -> FY'23 | E5: ='Historical Financials'!G5 -> FY'24 | F5: ='Historical Financials'!H5 -> FY'25 | G5: ='Cash Flow Assumptions'!O10 -> FY'26 | H5: ='Cash Flow Assumptions'!P10 -> FY'27 | I5: ='Cash Flow Assumptions'!Q10 -> FY'28 | J5: ='Cash Flow Assumptions'!R10 -> FY'29 | K5: ='Cash Flow Assumptions'!S10 -> FY'30
B6: Accounts Receivable | C6: ='Historical Financials'!E54 -> 72.928 | D6: ='Historical Financials'!F54 -> 74.307 | E6: ='Historical Financials'!G54 -> 76.687 | F6: ='Historical Financials'!H54 -> 62.069 | G6: =(G25/365)*G24 -> 68.457147 | H6: =(H25/365)*H24 -> 77.727982 | I6: =(I25/365)*I24 -> 92.28674 | J6: =(J25/365)*J24 -> 97.487777 | K6: =(K25/365)*K24 -> 103.29957
B7: Inventory | C7: ='Historical Financials'!E55 -> 19.693 | D7: ='Historical Financials'!F55 -> 23.522 | E7: ='Historical Financials'!G55 -> 22.005 | F7: ='Historical Financials'!H55 -> 18.032 | G7: =(G31/365)*G29 -> 29.499142 | H7: =(H31/365)*H29 -> 31.72669 | I7: =(I31/365)*I29 -> 35.652303 | J7: =(J31/365)*J29 -> 35.754369 | K7: =(K31/365)*K29 -> 35.965494
B8: Prepaid Expenses | C8: ='Historical Financials'!E56 -> 13.381 | D8: ='Historical Financials'!F56 -> 14.695 | E8: ='Historical Financials'!G56 -> 13.038 | F8: ='Historical Financials'!H56 -> 18 | G8: =G24*G39 -> 19.852562 | H8: =H24*H39 -> 22.541102 | I8: =I24*I39 -> 26.76314 | J8: =J24*J39 -> 28.271439 | K8: =K24*K39 -> 29.956859
B9: Total Current Assets | C9: =SUM(C6:C8) -> 106.002 | D9: =SUM(D6:D8) -> 112.524 | E9: =SUM(E6:E8) -> 111.73 | F9: =SUM(F6:F8) -> 98.101 | G9: =SUM(G6:G8) -> 117.80885 | H9: =SUM(H6:H8) -> 131.99577 | I9: =SUM(I6:I8) -> 154.70218 | J9: =SUM(J6:J8) -> 161.51359 | K9: =SUM(K6:K8) -> 169.22193
B11: Accounts Payable | C11: ='Historical Financials'!E65 -> 6.725 | D11: ='Historical Financials'!F65 -> 7.024 | E11: ='Historical Financials'!G65 -> 12.542 | F11: ='Historical Financials'!H65 -> 11.694 | G11: =(G37/365)*G29 -> 20.843122 | H11: =(H37/365)*H29 -> 21.23719 | I11: =(I37/365)*I29 -> 23.864915 | J11: =(J37/365)*J29 -> 24.437093 | K11: =(K37/365)*K29 -> 25.616397
B12: Accrued Expenses | C12: ='Historical Financials'!E66 -> 37.183 | D12: ='Historical Financials'!F66 -> 21.388 | E12: ='Historical Financials'!G66 -> 32.696 | F12: ='Historical Financials'!H66 -> 41.132 | G12: =G24*G40 -> 45.365309 | H12: =H24*H40 -> 51.508924 | I12: =I24*I40 -> 61.156748 | J12: =J24*J40 -> 64.603381 | K12: =K24*K40 -> 68.454752
B13: Deferred Revenue | C13: ='Historical Financials'!E67 -> 74.34 | D13: ='Historical Financials'!F67 -> 82.657 | E13: ='Historical Financials'!G67 -> 78.335 | F13: ='Historical Financials'!H67 -> 80.824 | G13: =G24*G41 -> 89.142414 | H13: =H24*H41 -> 101.21456 | I13: =I24*I41 -> 120.17244 | J13: =J24*J41 -> 126.94505 | K13: =K24*K41 -> 134.51296
B14: Total Current Liabilities | C14: =SUM(C11:C13) -> 118.248 | D14: =SUM(D11:D13) -> 111.069 | E14: =SUM(E11:E13) -> 123.573 | F14: =SUM(F11:F13) -> 133.65 | G14: =SUM(G11:G13) -> 155.35085 | H14: =SUM(H11:H13) -> 173.96067 | I14: =SUM(I11:I13) -> 205.19411 | J14: =SUM(J11:J13) -> 215.98552 | K14: =SUM(K11:K13) -> 228.5841
B16: Net Working Capital | C16: =SUM(C6:C8)-SUM(C11:C13) -> -12.246 | D16: =SUM(D6:D8)-SUM(D11:D13) -> 1.455 | E16: =SUM(E6:E8)-SUM(E11:E13) -> -11.843 | F16: =SUM(F6:F8)-SUM(F11:F13) -> -35.549 | G16: =SUM(G6:G8)-SUM(G11:G13) -> -37.541994 | H16: =SUM(H6:H8)-SUM(H11:H13) -> -41.964898 | I16: =SUM(I6:I8)-SUM(I11:I13) -> -50.491924 | J16: =SUM(J6:J8)-SUM(J11:J13) -> -54.471935 | K16: =SUM(K6:K8)-SUM(K11:K13) -> -59.362179
A18: s | B18: Change in NWC | C18: n.a. | D18: =D16-C16 -> 13.701 | E18: =E16-D16 -> -13.298 | F18: =F16-E16 -> -23.706 | G18: =G16-F16 -> -1.9929944 | H18: =H16-G16 -> -4.4229038 | I18: =I16-H16 -> -8.5270262 | J18: =J16-I16 -> -3.9800101 | K18: =K16-J16 -> -4.8902447
C20: Δ Net Working Capital Calculations
C21: =C5 -> FY'22 | D21: =D5 -> FY'23 | E21: =E5 -> FY'24 | F21: =F5 -> FY'25 | G21: =G5 -> FY'26 | H21: =H5 -> FY'27 | I21: =I5 -> FY'28 | J21: =J5 -> FY'29 | K21: =K5 -> FY'30
B22: DSO:
B23: Accounts Receivable | C23: =AVERAGE(B6:C6) -> 72.928 | D23: =AVERAGE(C6:D6) -> 73.6175 | E23: =AVERAGE(D6:E6) -> 75.497 | F23: =AVERAGE(E6:F6) -> 69.378 | G23: =AVERAGE(F6:G6) -> 65.263074 | H23: =AVERAGE(G6:H6) -> 73.092565 | I23: =AVERAGE(H6:I6) -> 85.007361 | J23: =AVERAGE(I6:J6) -> 94.887258 | K23: =AVERAGE(J6:K6) -> 100.39367
B24: ( / ) Sales | C24: ='Historical Financials'!E13 -> 280.338 | D24: ='Historical Financials'!F13 -> 251.7 | E24: ='Historical Financials'!G13 -> 261.696 | F24: ='Historical Financials'!H13 -> 290.557 | G24: ='Cash Flow Assumptions'!O14 -> 320.46115 | H24: ='Cash Flow Assumptions'!P14 -> 363.85973 | I24: ='Cash Flow Assumptions'!Q14 -> 432.01209 | J24: ='Cash Flow Assumptions'!R14 -> 456.35915 | K24: ='Cash Flow Assumptions'!S14 -> 483.56529
B25: DSO | C25: =(C6/C24)*Assumptions!$D$25 -> 94.952236 | D25: =(D6/D24)*Assumptions!$D$25 -> 107.75548 | E25: =(E6/E24)*Assumptions!$D$25 -> 106.95905 | F25: =(F6/F24)*Assumptions!$D$25 -> 77.971568 | G25: =F25 -> 77.971568 | H25: =G25 -> 77.971568 | I25: =H25 -> 77.971568 | J25: =I25 -> 77.971568 | K25: =J25 -> 77.971568
B27: DIO:
B28: Inventory | C28: =AVERAGE(B7:C7) -> 19.693 | D28: =AVERAGE(C7:D7) -> 21.6075 | E28: =AVERAGE(D7:E7) -> 22.7635 | F28: =AVERAGE(E7:F7) -> 20.0185 | G28: =AVERAGE(F7:G7) -> 23.765571 | H28: =AVERAGE(G7:H7) -> 30.612916 | I28: =AVERAGE(H7:I7) -> 33.689496 | J28: =AVERAGE(I7:J7) -> 35.703336 | K28: =AVERAGE(J7:K7) -> 35.859931
B29: ( / ) Cost of Goods Sold | C29: ='Historical Financials'!E13-'Historical Financials'!E16 -> 56.832 | D29: ='Historical Financials'!F13-'Historical Financials'!F16 -> 47.962 | E29: ='Historical Financials'!G13-'Historical Financials'!G16 -> 51.419 | F29: ='Historical Financials'!H13-'Historical Financials'!H16 -> 60.042 | G29: =('Cash Flow Assumptions'!O45+'Cash Flow Assumptions'!O51) -> 66.072227 | H29: =('Cash Flow Assumptions'!P45+'Cash Flow Assumptions'!P51) -> 74.80157 | I29: =('Cash Flow Assumptions'!Q45+'Cash Flow Assumptions'!Q51) -> 88.480984 | J29: =('Cash Flow Assumptions'!R45+'Cash Flow Assumptions'!R51) -> 93.404514 | K29: =('Cash Flow Assumptions'!S45+'Cash Flow Assumptions'!S51) -> 98.90111
B30: ( x ) illustrative adj. | C30: 1 | D30: 1 | E30: 1 | F30: 1 | G30: 0.9 | H30: 0.95 | I30: 0.95 | J30: 0.95 | K30: 0.95
B31: DIO | C31: =(C7/C29)*Assumptions!$D$25*C30 -> 126.47707 | D31: =(D7/D29)*Assumptions!$D$25*D30 -> 179.00692 | E31: =(E7/E29)*Assumptions!$D$25*E30 -> 156.20345 | F31: =(F7/F29)*Assumptions!$D$25*F30 -> 109.61793 | G31: ='Historical Financials'!AA90*G30 -> 162.96086 | H31: =G31*H30 -> 154.81282 | I31: =H31*I30 -> 147.07217 | J31: =I31*J30 -> 139.71857 | K31: =J31*K30 -> 132.73264
B33: DPO:
B34: Accounts Payable | C34: =AVERAGE(B11:C11) -> 6.725 | D34: =AVERAGE(C11:D11) -> 6.8745 | E34: =AVERAGE(D11:E11) -> 9.783 | F34: =AVERAGE(E11:F11) -> 12.118 | G34: =AVERAGE(F11:G11) -> 16.268561 | H34: =AVERAGE(G11:H11) -> 21.040156 | I34: =AVERAGE(H11:I11) -> 22.551053 | J34: =AVERAGE(I11:J11) -> 24.151004 | K34: =AVERAGE(J11:K11) -> 25.026745
B35: ( / ) Cost of Goods Sold | C35: =C29 -> 56.832 | D35: =D29 -> 47.962 | E35: =E29 -> 51.419 | F35: =F29 -> 60.042 | G35: =G29 -> 66.072227 | H35: =H29 -> 74.80157 | I35: =I29 -> 88.480984 | J35: =J29 -> 93.404514 | K35: =K29 -> 98.90111
B36: ( x ) illustrative adj. | C36: 1 | D36: 1 | E36: 1 | F36: 1 | G36: 0.8 | H36: 0.9 | I36: 0.95 | J36: 0.97 | K36: 0.99
B37: DPO | C37: =(C11/C29)*Assumptions!$D$25*C36 -> 43.190896 | D37: =(D11/D29)*Assumptions!$D$25*D36 -> 53.453984 | E37: =(E11/E29)*Assumptions!$D$25*E36 -> 89.029931 | F37: =(F11/F29)*Assumptions!$D$25*F36 -> 71.088738 | G37: ='Historical Financials'!AA91*G36 -> 115.14278 | H37: =G37*H36 -> 103.6285 | I37: =H37*I36 -> 98.447074 | J37: =I37*J36 -> 95.493662 | K37: =J37*K36 -> 94.538725
B39: Prepaid % of Sales | C39: =C8/C24 -> 0.047731667 | D39: =D8/D24 -> 0.058382996 | E39: =E8/E24 -> 0.049821167 | F39: =F8/F24 -> 0.061949979 | G39: =F39 -> 0.061949979 | H39: =G39 -> 0.061949979 | I39: =H39 -> 0.061949979 | J39: =I39 -> 0.061949979 | K39: =J39 -> 0.061949979
B40: Accrued % of Sales | C40: =C12/C24 -> 0.13263632 | D40: =D12/D24 -> 0.084974176 | E40: =E12/E24 -> 0.12493886 | F40: =F12/F24 -> 0.14156258 | G40: =F40 -> 0.14156258 | H40: =G40 -> 0.14156258 | I40: =H40 -> 0.14156258 | J40: =I40 -> 0.14156258 | K40: =J40 -> 0.14156258
A41: s | B41: Deferred Rev % of Sales | C41: =C13/C24 -> 0.26517989 | D41: =D13/D24 -> 0.32839491 | E41: =E13/E24 -> 0.29933587 | F41: =F13/F24 -> 0.27816917 | G41: =F41 -> 0.27816917 | H41: =G41 -> 0.27816917 | I41: =H41 -> 0.27816917 | J41: =I41 -> 0.27816917 | K41: =J41 -> 0.27816917

Sheet Historicals--->

Sheet Historical Financials
C2: =Assumptions!B2 -> A10 Networks, Inc.
C4: =Assumptions!$D$31 -> ($ in Millions) | E4: Annual | X4: Quarterly
E5: FY'22 | F5: FY'23 | G5: FY'24 | H5: FY'25 | I5: LTM | J5: Q1'22 | K5: Q2'22 | L5: Q3'22 | M5: Q4'22 | N5: Q1'23 | O5: Q2'23 | P5: Q3'23 | Q5: Q4'23 | R5: Q1'24 | S5: Q2'24 | T5: Q3'24 | U5: Q4'24 | V5: Q1'25 | W5: Q2'25 | X5: Q3'25 | Y5: Q4'25 | Z5: Q1'26 | AA5: Q2'26
X6: j
B7: p | C7: Income statement as of 2Q'26
C9: ($ in Millions) | E9: Annual | X9: Quarterly
E10: FY'22 | F10: FY'23 | G10: FY'24 | H10: FY'25 | I10: LTM | J10: Q1'22 | K10: Q2'22 | L10: Q3'22 | M10: Q4'22 | N10: Q1'23 | O10: Q2'23 | P10: Q3'23 | Q10: Q4'23 | R10: Q1'24 | S10: Q2'24 | T10: Q3'24 | U10: Q4'24 | V10: Q1'25 | W10: Q2'25 | X10: Q3'25 | Y10: Q4'25 | Z10: Q1'26 | AA10: Q2'26
C11: Products | E11: 173.201 | F11: 141.082 | G11: 139.799 | H11: 167.086 | I11: =SUM(X11:AA11) -> 184.944 | J11: 37.045 | K11: 41.475 | L11: 45.104 | M11: =E11-SUM(J11:L11) -> 49.577 | N11: 31.182 | O11: 39.09 | P11: 30.26 | Q11: =F11-SUM(N11:P11) -> 40.55 | R11: 30.069 | S11: 29.533 | T11: 36.862 | U11: =G11-SUM(R11:T11) -> 43.335 | V11: 35.979 | W11: 39.173 | X11: 43.109 | Y11: =H11-SUM(V11:X11) -> 48.825 | Z11: 43.986 | AA11: 49.024
C12: Services | E12: 107.137 | F12: 110.618 | G12: 121.897 | H12: 123.471 | I12: =SUM(X12:AA12) -> 125.23 | J12: 25.627 | K12: 26.498 | L12: 26.955 | M12: =E12-SUM(J12:L12) -> 28.057 | N12: 26.509 | O12: 26.727 | P12: 27.515 | Q12: =F12-SUM(N12:P12) -> 29.867 | R12: 30.606 | S12: 30.563 | T12: 29.859 | U12: =G12-SUM(R12:T12) -> 30.869 | V12: 30.158 | W12: 30.21 | X12: 31.573 | Y12: =H12-SUM(V12:X12) -> 31.53 | Z12: 31.014 | AA12: 31.113
C13: Total Net Revenue | E13: 280.338 | F13: 251.7 | G13: 261.696 | H13: 290.557 | I13: =SUM(X13:AA13) -> 310.174 | J13: 62.672 | K13: 67.973 | L13: 72.059 | M13: =E13-SUM(J13:L13) -> 77.634 | N13: 57.691 | O13: 65.817 | P13: 57.775 | Q13: =F13-SUM(N13:P13) -> 70.417 | R13: 60.675 | S13: 60.096 | T13: 66.721 | U13: =G13-SUM(R13:T13) -> 74.204 | V13: 66.137 | W13: 69.383 | X13: 74.682 | Y13: =H13-SUM(V13:X13) -> 80.355 | Z13: 75 | AA13: 80.137
C14: ( - ) Products cost of revenue | E14: 40.135 | F14: 31.468 | G14: 31.218 | H14: 33.403 | I14: =SUM(X14:AA14) -> 36.952 | J14: 8.633 | K14: 9.518 | L14: 10.191 | M14: =E14-SUM(J14:L14) -> 11.793 | N14: 6.083 | O14: 9.436 | P14: 6.815 | Q14: =F14-SUM(N14:P14) -> 9.134 | R14: 6.799 | S14: 6.813 | T14: 7.531 | U14: =G14-SUM(R14:T14) -> 10.075 | V14: 7.263 | W14: 8.197 | X14: 8.101 | Y14: =H14-SUM(V14:X14) -> 9.842 | Z14: 8.93 | AA14: 10.079
C15: ( - ) Services cost of revenue | E15: 16.697 | F15: 16.494 | G15: 20.201 | H15: 26.639 | I15: =SUM(X15:AA15) -> 27.008 | J15: 4.206 | K15: 3.967 | L15: 4.574 | M15: =E15-SUM(J15:L15) -> 3.95 | N15: 4.133 | O15: 4.027 | P15: 4.194 | Q15: =F15-SUM(N15:P15) -> 4.14 | R15: 4.645 | S15: 5.225 | T15: 5.508 | U15: =G15-SUM(R15:T15) -> 4.823 | V15: 6.179 | W15: 6.475 | X15: 6.729 | Y15: =H15-SUM(V15:X15) -> 7.256 | Z15: 6.346 | AA15: 6.677
C16: Gross Profit | E16: 223.506 | F16: 203.738 | G16: 210.277 | H16: 230.515 | I16: =SUM(X16:AA16) -> 246.214 | J16: 49.833 | K16: 54.488 | L16: 57.294 | M16: =E16-SUM(J16:L16) -> 61.891 | N16: 47.475 | O16: 52.354 | P16: 46.766 | Q16: =F16-SUM(N16:P16) -> 57.143 | R16: 49.231 | S16: 48.058 | T16: 53.682 | U16: =G16-SUM(R16:T16) -> 59.306 | V16: 52.695 | W16: 54.711 | X16: 59.852 | Y16: =H16-SUM(V16:X16) -> 63.257 | Z16: 59.724 | AA16: 63.381
C17: ( - ) Sales and marketing | E17: 88.511 | F17: 85.976 | G17: 83.3 | H17: 84.467 | I17: =SUM(X17:AA17) -> 85.877 | J17: 22.782 | K17: 21.773 | L17: 21.605 | M17: =E17-SUM(J17:L17) -> 22.351 | N17: 22.334 | O17: 20.868 | P17: 21.324 | Q17: =F17-SUM(N17:P17) -> 21.45 | R17: 21.214 | S17: 19.453 | T17: 21.011 | U17: =G17-SUM(R17:T17) -> 21.622 | V17: 19.545 | W17: 20.964 | X17: 21.531 | Y17: =H17-SUM(V17:X17) -> 22.427 | Z17: 20.014 | AA17: 21.905
C18: ( - ) Research and development | E18: 58.398 | F18: 55.229 | G18: 57.726 | H18: 69.104 | I18: =SUM(X18:AA18) -> 77.119 | J18: 12.887 | K18: 14.235 | L18: 14.36 | M18: =E18-SUM(J18:L18) -> 16.916 | N18: 11.665 | O18: 13.965 | P18: 17.62 | Q18: =F18-SUM(N18:P18) -> 11.979 | R18: 14.063 | S18: 14.737 | T18: 15.734 | U18: =G18-SUM(R18:T18) -> 13.192 | V18: 15.9 | W18: 16.256 | X18: 18.377 | Y18: =H18-SUM(V18:X18) -> 18.571 | Z18: 19.018 | AA18: 21.153
C19: ( - ) General and administrative | E19: 23.518 | F19: 23.885 | G19: 25.283 | H19: 29.802 | I19: =SUM(X19:AA19) -> 33.142 | J19: 6.162 | K19: 5.337 | L19: 5.661 | M19: =E19-SUM(J19:L19) -> 6.358 | N19: 7.309 | O19: 5.255 | P19: 5.613 | Q19: =F19-SUM(N19:P19) -> 5.708 | R19: 6.741 | S19: 5.952 | T19: 6.494 | U19: =G19-SUM(R19:T19) -> 6.096 | V19: 8.472 | W19: 7.18 | X19: 6.95 | Y19: =H19-SUM(V19:X19) -> 7.2 | Z19: 7.693 | AA19: 11.299
C20: Income from Operations | E20: 53.079 | F20: 38.648 | G20: 43.968 | H20: 47.142 | I20: =SUM(X20:AA20) -> 50.076 | J20: 8.002 | K20: 13.143 | L20: 15.668 | M20: =E20-SUM(J20:L20) -> 16.266 | N20: 6.167 | O20: 12.266 | P20: 2.209 | Q20: =F20-SUM(N20:P20) -> 18.006 | R20: 7.213 | S20: 7.916 | T20: 10.443 | U20: =G20-SUM(R20:T20) -> 18.396 | V20: 8.778 | W20: 10.311 | X20: 12.994 | Y20: =H20-SUM(V20:X20) -> 15.059 | Z20: 12.999 | AA20: 9.024
C21: ( + ) Interest income | E21: 1.304 | F21: 5.078 | G21: 6.747 | H21: 11.628 | I21: =SUM(X21:AA21) -> 13.547 | J21: 0.119 | K21: 0.184 | L21: 0.432 | M21: =E21-SUM(J21:L21) -> 0.569 | N21: 0.973 | O21: 0.662 | P21: 1.766 | Q21: =F21-SUM(N21:P21) -> 1.677 | R21: 1.681 | S21: 1.761 | T21: 1.634 | U21: =G21-SUM(R21:T21) -> 1.671 | V21: 1.79 | W21: 2.994 | X21: 3.386 | Y21: =H21-SUM(V21:X21) -> 3.458 | Z21: 3.383 | AA21: 3.32
C22: ( + / - ) Interest and other income (expense), net | E22: -1.667 | F22: 0.069 | G22: 7.384 | H22: -6.348 | I22: =SUM(X22:AA22) -> -9.461 | J22: -0.632 | K22: 0.301 | L22: -0.871 | M22: =E22-SUM(J22:L22) -> -0.465 | N22: -2.218 | O22: 1.884 | P22: 0.987 | Q22: =F22-SUM(N22:P22) -> -0.584 | R22: 2.326 | S22: 1.306 | T22: 2.312 | U22: =G22-SUM(R22:T22) -> 1.44 | V22: -0.09 | W22: -1.376 | X22: -2.387 | Y22: =H22-SUM(V22:X22) -> -2.495 | Z22: -2.158 | AA22: -2.421
... C24: ( - ) Provision for income taxes | E24: 5.808 | F24: 3.825 | G24: 7.959 | H24: 10.285 | I24: =SUM(X24:AA24) -> 11.192 | J24: 1.14 | K24: 3.212 | L24: 3.116 | M24: =E24-SUM(J24:L24) -> -1.66 | N24: 0.964 | O24: 3.186 | P24: -1.507 | Q24: =F24-SUM(N24:P24) -> 1.182 | R24: 1.494 | S24: 1.507 | T24: 1.752 | U24: =G24-SUM(R24:T24) -> 3.206 | V24: 0.935 | W24: 1.391 | X24: 1.802 | Y24: =H24-SUM(V24:X24) -> 6.157 | Z24: 2.192 | AA24: 1.041
B25: p | C25: Net Income | E25: 46.908 | F25: 39.97 | G25: 50.14 | H25: 42.137 | I25: =SUM(X25:AA25) -> 42.97 | J25: 6.349 | K25: 10.416 | L25: 12.113 | M25: =E25-SUM(J25:L25) -> 18.03 | N25: 3.958 | O25: 11.626 | P25: 6.469 | Q25: =F25-SUM(N25:P25) -> 17.917 | R25: 9.726 | S25: 9.476 | T25: 12.637 | U25: =G25-SUM(R25:T25) -> 18.301 | V25: 9.543 | W25: 10.538 | X25: 12.191 | Y25: =H25-SUM(V25:X25) -> 9.865 | Z25: 12.032 | AA25: 8.882
C27: Net income per share:
C28: Basic | J28: 0.08 | K28: 0.14 | L28: 0.16 | N28: 0.05 | O28: 0.16 | P28: 0.09 | R28: 0.13 | S28: 0.13 | T28: 0.17 | V28: 0.13 | W28: 0.15 | X28: 0.17 | Z28: 0.17 | AA28: 0.12
C29: Diluted | J29: 0.08 | K29: 0.13 | L29: 0.16 | N29: 0.05 | O29: 0.15 | P29: 0.09 | R29: 0.13 | S29: 0.13 | T29: 0.17 | V29: 0.13 | W29: 0.14 | X29: 0.17 | Z29: 0.17 | AA29: 0.12
C30: Weighted-average shares used in computing net income per share:
C31: Basic | J31: 76795 | K31: 75893 | L31: 75881 | N31: 74001 | O31: 74017 | P31: 74526 | R31: 74451 | S31: 74366 | T31: 73823 | V31: 73555 | W31: 72009 | X31: 71891 | Z31: 71667 | AA31: 72161
C32: Diluted | J32: 79285 | K32: 78306 | L32: 77679 | N32: 75541 | O32: 75428 | P32: 75807 | R32: 75318 | S32: 75497 | T32: 74780 | V32: 75048 | W32: 73117 | X32: 73046 | Z32: 72915 | AA32: 75651
C33: Memo: Ratio Analysis
C34: Products Revenue Growth YoY (%) | E34: =IFERROR(E11/D11-1,"n.a.") -> n.a. | F34: =IFERROR(F11/E11-1,"n.a.") -> -0.1854435 | G34: =IFERROR(G11/F11-1,"n.a.") -> -0.0090940021 | H34: =IFERROR(H11/G11-1,"n.a.") -> 0.19518738 | I34: =IFERROR(I11/H11-1,"n.a.") -> 0.10687909 | J34: n.a. | K34: n.a. | L34: n.a. | M34: n.a. | N34: =IFERROR(N11/J11-1,"n.a.") -> -0.15826697 | O34: =IFERROR(O11/K11-1,"n.a.") -> -0.057504521 | P34: =IFERROR(P11/L11-1,"n.a.") -> -0.32910607 | Q34: =IFERROR(Q11/M11-1,"n.a.") -> -0.1820804 | R34: =IFERROR(R11/N11-1,"n.a.") -> -0.035693669 | S34: =IFERROR(S11/O11-1,"n.a.") -> -0.24448708 | T34: =IFERROR(T11/P11-1,"n.a.") -> 0.21817581 | U34: =IFERROR(U11/Q11-1,"n.a.") -> 0.068680641 | ... AA34: =IFERROR(AA11/W11-1,"n.a.") -> 0.25147423
C35: Services Revenue Growth YoY (%) | E35: =IFERROR(E12/D12-1,"n.a.") -> n.a. | F35: =IFERROR(F12/E12-1,"n.a.") -> 0.03249111 | G35: =IFERROR(G12/F12-1,"n.a.") -> 0.10196351 | H35: =IFERROR(H12/G12-1,"n.a.") -> 0.012912541 | I35: =IFERROR(I12/H12-1,"n.a.") -> 0.01424626 | J35: n.a. | K35: n.a. | L35: n.a. | M35: n.a. | N35: =IFERROR(N12/J12-1,"n.a.") -> 0.034416826 | O35: =IFERROR(O12/K12-1,"n.a.") -> 0.0086421617 | P35: =IFERROR(P12/L12-1,"n.a.") -> 0.020775366 | Q35: =IFERROR(Q12/M12-1,"n.a.") -> 0.06451153 | R35: =IFERROR(R12/N12-1,"n.a.") -> 0.15455128 | S35: =IFERROR(S12/O12-1,"n.a.") -> 0.14352527 | T35: =IFERROR(T12/P12-1,"n.a.") -> 0.085189896 | U35: =IFERROR(U12/Q12-1,"n.a.") -> 0.033548733 | ... AA35: =IFERROR(AA12/W12-1,"n.a.") -> 0.029890765
C36: Total Net Revenue Growth YoY (%) | E36: =IFERROR(E13/D13-1,"n.a.") -> n.a. | F36: =IFERROR(F13/E13-1,"n.a.") -> -0.10215526 | G36: =IFERROR(G13/F13-1,"n.a.") -> 0.039713945 | H36: =IFERROR(H13/G13-1,"n.a.") -> 0.11028445 | I36: =IFERROR(I13/H13-1,"n.a.") -> 0.067515152 | J36: n.a. | K36: n.a. | L36: n.a. | M36: n.a. | N36: =IFERROR(N13/J13-1,"n.a.") -> -0.079477279 | O36: =IFERROR(O13/K13-1,"n.a.") -> -0.031718476 | P36: =IFERROR(P13/L13-1,"n.a.") -> -0.19822645 | Q36: =IFERROR(Q13/M13-1,"n.a.") -> -0.092961847 | R36: =IFERROR(R13/N13-1,"n.a.") -> 0.051723839 | S36: =IFERROR(S13/O13-1,"n.a.") -> -0.086922831 | T36: =IFERROR(T13/P13-1,"n.a.") -> 0.15484206 | U36: =IFERROR(U13/Q13-1,"n.a.") -> 0.053779627 | ... AA36: =IFERROR(AA13/W13-1,"n.a.") -> 0.15499474
C37: Products COGS Margin (%) | E37: =E14/E11 -> 0.23172499 | F37: =F14/F11 -> 0.22304759 | G37: =G14/G11 -> 0.22330632 | H37: =H14/H11 -> 0.19991501 | I37: =I14/I11 -> 0.19980102 | J37: =J14/J11 -> 0.2330409 | K37: =K14/K11 -> 0.22948764 | L37: =L14/L11 -> 0.22594448 | ... AA37: =AA14/AA11 -> 0.20559318
C38: Services COGS Margin (%) | E38: =E15/E12 -> 0.15584719 | F38: =F15/F12 -> 0.14910774 | G38: =G15/G12 -> 0.16572188 | H38: =H15/H12 -> 0.21575107 | I38: =I15/I12 -> 0.21566717 | J38: =J15/J12 -> 0.16412378 | K38: =K15/K12 -> 0.14970941 | L38: =L15/L12 -> 0.16969022 | ... AA38: =AA15/AA12 -> 0.21460483
C39: S&M Margin (%) | E39: =E17/E$13 -> 0.31572958 | F39: =F17/F$13 -> 0.34158125 | G39: =G17/G$13 -> 0.31830827 | H39: =H17/H$13 -> 0.29070716 | I39: =I17/I$13 -> 0.27686718 | J39: =J17/J$13 -> 0.36351162 | K39: =K17/K$13 -> 0.32031836 | L39: =L17/L$13 -> 0.29982376 | ... AA39: =AA17/AA$13 -> 0.2733444
C40: R&D Margin (%) | E40: =E18/E$13 -> 0.20831282 | F40: =F18/F$13 -> 0.21942392 | G40: =G18/G$13 -> 0.22058419 | H40: =H18/H$13 -> 0.23783285 | I40: =I18/I$13 -> 0.24863141 | J40: =J18/J$13 -> 0.20562612 | K40: =K18/K$13 -> 0.20942139 | L40: =L18/L$13 -> 0.19928114 | ... AA40: =AA18/AA$13 -> 0.26396047
C41: G&A Margin (%) | E41: =E19/E$13 -> 0.083891588 | F41: =F19/F$13 -> 0.094894716 | G41: =G19/G$13 -> 0.0966121 | H41: =H19/H$13 -> 0.10256851 | I41: =I19/I$13 -> 0.1068497 | J41: =J19/J$13 -> 0.098321419 | K41: =K19/K$13 -> 0.07851647 | L41: =L19/L$13 -> 0.078560624 | ... AA41: =AA19/AA$13 -> 0.14099604
C42: Interest Income as % Revenues | E42: =E21/E$13 -> 0.0046515278 | F42: =F21/F$13 -> 0.020174811 | G42: =G21/G$13 -> 0.025781823 | H42: =H21/H$13 -> 0.040019686 | I42: =I21/I$13 -> 0.043675485 | J42: =J21/J$13 -> 0.0018987746 | K42: =K21/K$13 -> 0.0027069572 | L42: =L21/L$13 -> 0.0059950874 | ... AA42: =AA21/AA$13 -> 0.041429053
C43: Interest and Other Income (Expense) % Revenues | E43: =E22/E$13 -> -0.0059463933 | F43: =F22/F$13 -> 0.00027413588 | G43: =G22/G$13 -> 0.028215945 | H43: =H22/H$13 -> -0.021847693 | I43: =I22/I$13 -> -0.030502234 | J43: =J22/J$13 -> -0.010084248 | K43: =K22/K$13 -> 0.0044282289 | L43: =L22/L$13 -> -0.012087317 | ... AA43: =AA22/AA$13 -> -0.030210764
B44: p | C44: Effective tax rate | E44: =E24/E23 -> 0.11017528 | F44: =F24/F23 -> 0.087338737 | G44: =G24/G23 -> 0.13699031 | H44: =H24/H23 -> 0.19619625 | I44: =I24/I23 -> 0.20663934 | J44: =J24/J23 -> 0.15222326 | K44: =K24/K23 -> 0.23569122 | L44: =L24/L23 -> 0.20460963 | ... AA44: =AA24/AA23 -> 0.10490779
E46: Source | F46: Source | G46: Source | H46: Source | J46: Source | K46: Source | L46: Source | N46: Source | O46: Source | P46: Source | R46: Source | S46: Source | T46: Source | V46: Source | W46: Source | X46: Source | Z46: Source | AA46: Source
...

Sheet Outputs--->

Sheet Debt Schedule
C3: A10 Networks, Inc.
A5: =Assumptions!$D$53 -> 225 | B5: p | C5: Debt Principal | F5: ='Cash Flow Assumptions'!N10 -> FY'25 | G5: ='Cash Flow Assumptions'!O10 -> FY'26 | H5: ='Cash Flow Assumptions'!P10 -> FY'27 | I5: ='Cash Flow Assumptions'!Q10 -> FY'28 | J5: ='Cash Flow Assumptions'!R10 -> FY'29 | K5: ='Cash Flow Assumptions'!S10 -> FY'30 | M5: Refinance Toggle | N5: First Interest Payment | O5: Maturity
C6: Beginning Balance | F6: =Assumptions!F57 -> 218.787 | G6: =F10 -> 220.10389 | H6: =G10 -> 221.46596 | I6: =H10 -> 222.87474 | J6: =I10 -> 224.33184 | K6: =IF(M6=1,J10,0) -> 225 | M6: =Assumptions!D50 -> 1 | N6: =Assumptions!F60 -> 45931 | O6: =Assumptions!D62 -> 47574
A7: =Assumptions!$D$59 -> 0.0343 | C7: ( - ) Cash Interest Paid | F7: =-$A$8*$A$5 -> -6.1875 | G7: =-$A$8*$A$5 -> -6.1875 | H7: =-$A$8*$A$5 -> -6.1875 | I7: =-$A$8*$A$5 -> -6.1875 | J7: =-$A$8*$A$5 -> -6.1875 | K7: =IF(M6=1,-$A$5*$A$8,(-$A$8*$A$5)*(YEARFRAC(N6,O6)-4)) -> -6.1875
A8: =Assumptions!$D$58 -> 0.0275 | C8: ( + ) Effective Interest Expense | F8: =IF($A$5-F6<(E8+E7),$A$5-F6-F7,F6*$A$7) -> 7.5043941 | G8: =IF($A$5-G6<(F8+F7),$A$5-G6-G7,G6*$A$7) -> 7.5495636 | H8: =IF($A$5-H6<(G8+G7),$A$5-H6-H7,H6*$A$7) -> 7.5962823 | I8: =IF($A$5-I6<(H8+H7),$A$5-I6-I7,I6*$A$7) -> 7.6446036 | J8: =IF($A$5-J6<(I8+I7),$A$5-J6-J7,J6*$A$7) -> 6.8556564 | K8: =IF($A$5-K6<(J8+J7),$A$5-K6-K7,K6*$A$7) -> 6.1875
C9: ( + ) Issuance Cost Amort. | F9: =MAX(SUM(F7:F8),0) -> 1.3168941 | G9: =MAX(SUM(G7:G8),0) -> 1.3620636 | H9: =MAX(SUM(H7:H8),0) -> 1.4087823 | I9: =MAX(SUM(I7:I8),0) -> 1.4571036 | J9: =MAX(SUM(J7:J8),0) -> 0.6681564 | K9: =MAX(SUM(K7:K8),0) -> 0
B10: p | C10: Ending Debt Balance | F10: =F6+F9 -> 220.10389 | G10: =G6+G9 -> 221.46596 | H10: =H6+H9 -> 222.87474 | I10: =I6+I9 -> 224.33184 | J10: =J6+J9 -> 225 | K10: =K6+K9 -> 225
C12: Memo: Interest Expense Reported | F12: =MIN(-F8,F7) -> -7.5043941 | G12: =MIN(-G8,G7) -> -7.5495636 | H12: =MIN(-H8,H7) -> -7.5962823 | I12: =MIN(-I8,I7) -> -7.6446036 | J12: =MIN(-J8,J7) -> -6.8556564 | K12: =MIN(-K8,K7) -> -6.1875

Sheet Cost of Equity
B2: =Assumptions!$B$2 -> A10 Networks, Inc.
B4: Cost of Equity
B6: =Assumptions!$D$31 -> ($ in Millions)
F7: Levered Equity | H7: Market | J7: Unlevered Equity
A8: p | B8: Comparable Companies | C8: Ticker | D8: NTM P/E | E8: Implied k | F8: Risk Premium | G8: Gross Debt | H8: Capitalization | I8: D/E | J8: Risk Premium | L8: Growth Rate | M8: Risk-Free Rate
B9: =B32 -> Radware | C9: =C32 -> RDWR | D9: =D32 -> 21.724409 | E9: =IFERROR(1/D9+$L$9,"NA") -> 0.081031172 | F9: =IFERROR(E9-$M$9,"NA") -> 0.033231172 | G9: =F32 -> 0 | H9: =G32 -> 1300.8932 | I9: =IFERROR(G9/H9,"NA") -> 0 | J9: =IFERROR(F9/(1+(1-E32)*I9),"NA") -> 0.033231172 | L9: =Assumptions!D89 -> 0.035 | M9: =Assumptions!D91 -> 0.0478
B10: =B33 -> F5 | C10: =C33 -> FFIV | D10: =D33 -> 21.817379 | E10: =IFERROR(1/D10+$L$9,"NA") -> 0.08083502 | F10: =IFERROR(E10-$M$9,"NA") -> 0.03303502 | G10: =F33 -> 0 | H10: =G33 -> 22421.506 | I10: =IFERROR(G10/H10,"NA") -> 0 | J10: =IFERROR(F10/(1+(1-E33)*I10),"NA") -> 0.03303502
B11: =B34 -> NetScout Systems | C11: =C34 -> NTCT | D11: =D34 -> 13.377848 | E11: =IFERROR(1/D11+$L$9,"NA") -> 0.10975044 | F11: =IFERROR(E11-$M$9,"NA") -> 0.061950438 | G11: =F34 -> 0 | H11: =G34 -> 2860.4052 | I11: =IFERROR(G11/H11,"NA") -> 0 | J11: =IFERROR(F11/(1+(1-E34)*I11),"NA") -> 0.061950438
B12: =B35 -> Akamai Technologies | C12: =C35 -> AKAM | D12: =D35 -> 15.198215 | E12: =IFERROR(1/D12+$L$9,"NA") -> 0.1007972 | F12: =IFERROR(E12-$M$9,"NA") -> 0.052997201 | G12: =F35 -> 7562.8281 | H12: =G35 -> 17870.141 | I12: =IFERROR(G12/H12,"NA") -> 0.42321032 | J12: =IFERROR(F12/(1+(1-E35)*I12),"NA") -> 0.039718028
B13: =B36 -> Extreme Networks | C13: =C36 -> EXTR | D13: =D36 -> 16.294607 | E13: =IFERROR(1/D13+$L$9,"NA") -> 0.096369998 | F13: =IFERROR(E13-$M$9,"NA") -> 0.048569998 | G13: =F36 -> 177.99499 | H13: =G36 -> 3008.5112 | I13: =IFERROR(G13/H13,"NA") -> 0.059163813 | J13: =IFERROR(F13/(1+(1-E36)*I13),"NA") -> 0.046401232
B14: =B37 -> Cisco Systems | C14: =C37 -> CSCO | D14: =D37 -> 21.030993 | E14: =IFERROR(1/D14+$L$9,"NA") -> 0.082548872 | F14: =IFERROR(E14-$M$9,"NA") -> 0.034748872 | G14: =F37 -> 29533 | H14: =G37 -> 428204.36 | I14: =IFERROR(G14/H14,"NA") -> 0.068969405 | J14: =IFERROR(F14/(1+(1-E37)*I14),"NA") -> 0.03295338
I16: Mean | J16: =IFERROR(AVERAGE(J9:J14),"NA") -> 0.041214878
I17: Median | J17: =IFERROR(MEDIAN(J9:J14),"NA") -> 0.0364746
A18: p | B18: Target Cost of Equity
B20: Target Debt-to-Equity Ratio | D20: =Assumptions!D46/Assumptions!D44 -> 0.12496644 | L20: Mean / Median
B21: Target Marginal Tax Rate | D21: =Assumptions!D90 -> 0.21 | L21: Toggle
B22: Peer Unlevered Risk Premium | D22: =IF(L22=1,J16,J17) -> 0.0364746 | L22: =Assumptions!D95 -> 0
B23: Target Levered Equity Risk Premium | D23: =D22*(1+(1-D21)*D20) -> 0.040075499
B24: ( + ) Risk-Free Rate | D24: =$M$9 -> 0.0478
B25: Target Cost of Equity | D25: =SUM(D23:D24) -> 0.087875499
A28: p | B28: Peer Support
B30: Company Name | C30: Ticker | D30: Fwd P/E | E30: Marginal Tax Rate | F30: Total Debt | G30: Total Equity
B32: =Assumptions!D99 -> Radware | C32: =Assumptions!D100 -> RDWR | D32: =Assumptions!D101 -> 21.724409 | E32: 0.1 | F32: =Assumptions!D103 -> 0 | G32: =Assumptions!D104 -> 1300.8932
B33: =Assumptions!D108 -> F5 | C33: =Assumptions!D109 -> FFIV | D33: =Assumptions!D110 -> 21.817379 | E33: =Assumptions!D111 -> 0.21 | F33: =Assumptions!D112 -> 0 | G33: =Assumptions!D113 -> 22421.506
B34: =Assumptions!D117 -> NetScout Systems | C34: =Assumptions!D118 -> NTCT | D34: =Assumptions!D119 -> 13.377848 | E34: =Assumptions!D120 -> 0.21 | F34: =Assumptions!D121 -> 0 | G34: =Assumptions!D122 -> 2860.4052
B35: =Assumptions!D126 -> Akamai Technologies | C35: =Assumptions!D127 -> AKAM | D35: =Assumptions!D128 -> 15.198215 | E35: =Assumptions!D129 -> 0.21 | F35: =Assumptions!D130 -> 7562.8281 | G35: =Assumptions!D131 -> 17870.141
B36: =Assumptions!D135 -> Extreme Networks | C36: =Assumptions!D136 -> EXTR | D36: =Assumptions!D137 -> 16.294607 | E36: =Assumptions!D138 -> 0.21 | F36: =Assumptions!D139 -> 177.99499 | G36: =Assumptions!D140 -> 3008.5112
A37: p | B37: =Assumptions!D144 -> Cisco Systems | C37: =Assumptions!D145 -> CSCO | D37: =Assumptions!D146 -> 21.030993 | E37: =Assumptions!D147 -> 0.21 | F37: =Assumptions!D148 -> 29533 | G37: =Assumptions!D149 -> 428204.36

Sheet Operating Model Output
B2: =Assumptions!$B$2 -> A10 Networks, Inc.
G4: Forecast | M4: Street Estimates | S4: Forecast vs. Street
F5: ='Cash Flow Assumptions'!N10 -> FY'25 | G5: ='Cash Flow Assumptions'!$O$10 -> FY'26 | H5: ='Cash Flow Assumptions'!$P$10 -> FY'27 | I5: ='Cash Flow Assumptions'!$Q$10 -> FY'28 | J5: ='Cash Flow Assumptions'!$R$10 -> FY'29 | K5: ='Cash Flow Assumptions'!$S$10 -> FY'30 | M5: ='Cash Flow Assumptions'!$O$10 -> FY'26 | N5: ='Cash Flow Assumptions'!$P$10 -> FY'27 | O5: ='Cash Flow Assumptions'!$Q$10 -> FY'28 | P5: ='Cash Flow Assumptions'!$R$10 -> FY'29 | Q5: ='Cash Flow Assumptions'!$S$10 -> FY'30 | S5: ='Cash Flow Assumptions'!$O$10 -> FY'26 | T5: ='Cash Flow Assumptions'!$P$10 -> FY'27 | U5: ='Cash Flow Assumptions'!$Q$10 -> FY'28 | V5: ='Cash Flow Assumptions'!$R$10 -> FY'29 | W5: ='Cash Flow Assumptions'!$S$10 -> FY'30
A6: p | B6: Products | F6: ='Cash Flow Assumptions'!N42 -> 167.086 | G6: ='Cash Flow Assumptions'!O42 -> 193.71045 | H6: ='Cash Flow Assumptions'!P42 -> 233.7422 | I6: ='Cash Flow Assumptions'!Q42 -> 298.4383 | J6: ='Cash Flow Assumptions'!R42 -> 319.2373 | K6: ='Cash Flow Assumptions'!S42 -> 342.80114 | M6: 202.22449 | N6: 233.41864 | O6: 238.08701 | P6: 254.7531 | Q6: 277.68088 | S6: =G6-M6 -> -8.5140472 | T6: =H6-N6 -> 0.32356238 | U6: =I6-O6 -> 60.351295 | V6: =J6-P6 -> 64.484203 | W6: =K6-Q6 -> 65.120258
B7: Services | F7: ='Cash Flow Assumptions'!N36 -> 123.471 | G7: ='Cash Flow Assumptions'!O36 -> 126.75071 | H7: ='Cash Flow Assumptions'!P36 -> 130.11753 | I7: ='Cash Flow Assumptions'!Q36 -> 133.57378 | J7: ='Cash Flow Assumptions'!R36 -> 137.12185 | K7: ='Cash Flow Assumptions'!S36 -> 140.76415 | M7: 125.86103 | N7: 134.69767 | O7: 133.35069 | P7: 132.01718 | Q7: 134.65753 | S7: =G7-M7 -> 0.88967576 | T7: =H7-N7 -> -4.5801365 | U7: =I7-O7 -> 0.22309472 | V7: =J7-P7 -> 5.1046632 | W7: =K7-Q7 -> 6.1066267
B8: Total Net Revenue | F8: =SUM(F6:F7) -> 290.557 | G8: =SUM(G6:G7) -> 320.46115 | H8: =SUM(H6:H7) -> 363.85973 | I8: =SUM(I6:I7) -> 432.01209 | J8: =SUM(J6:J7) -> 456.35915 | K8: =SUM(K6:K7) -> 483.56529 | M8: =SUM(M6:M7) -> 328.08552 | N8: =SUM(N6:N7) -> 368.1163 | O8: =SUM(O6:O7) -> 371.4377 | P8: =SUM(P6:P7) -> 386.77028 | Q8: =SUM(Q6:Q7) -> 412.3384 | S8: =G8-M8 -> -7.6243715 | T8: =H8-N8 -> -4.2565741 | U8: =I8-O8 -> 60.574389 | V8: =J8-P8 -> 69.588866 | W8: =K8-Q8 -> 71.226885
B9: ( - ) Products cost of revenue | F9: =-'Cash Flow Assumptions'!N45 -> -33.403 | G9: =-'Cash Flow Assumptions'!O45 -> -38.725627 | H9: =-'Cash Flow Assumptions'!P45 -> -46.728575 | I9: =-'Cash Flow Assumptions'!Q45 -> -59.662297 | J9: =-'Cash Flow Assumptions'!R45 -> -63.82033 | K9: =-'Cash Flow Assumptions'!S45 -> -68.531094 | M9: -41.725615 | N9: -49.435438 | O9: -52.379142 | P9: -50.95062 | Q9: -61.089793 | S9: =G9-M9 -> 2.9999881 | T9: =H9-N9 -> 2.7068631 | U9: =I9-O9 -> -7.2831556 | V9: =J9-P9 -> -12.86971 | W9: =K9-Q9 -> -7.4413007
B10: ( - ) Services cost of revenue | F10: =-'Cash Flow Assumptions'!N51 -> -26.639 | G10: =-'Cash Flow Assumptions'!O51 -> -27.3466 | H10: =-'Cash Flow Assumptions'!P51 -> -28.072996 | I10: =-'Cash Flow Assumptions'!Q51 -> -28.818686 | J10: =-'Cash Flow Assumptions'!R51 -> -29.584184 | K10: =-'Cash Flow Assumptions'!S51 -> -30.370016 | M10: -23.857785 | N10: -25.528839 | O10: -25.336631 | P10: -25.083265 | Q10: -25.58493 | S10: =G10-M10 -> -3.4888149 | T10: =H10-N10 -> -2.5441563 | U10: =I10-O10 -> -3.4820555 | V10: =J10-P10 -> -4.5009198 | W10: =K10-Q10 -> -4.7850862
B11: Gross Profit | F11: =SUM(F8:F10) -> 230.515 | G11: =SUM(G8:G10) -> 254.38893 | H11: =SUM(H8:H10) -> 289.05816 | I11: =SUM(I8:I10) -> 343.5311 | J11: =SUM(J8:J10) -> 362.95463 | K11: =SUM(K8:K10) -> 384.66418 | M11: =SUM(M8:M10) -> 262.50212 | N11: =SUM(N8:N10) -> 293.15202 | O11: =SUM(O8:O10) -> 293.72192 | P11: =SUM(P8:P10) -> 310.7364 | Q11: =SUM(Q8:Q10) -> 325.66368 | S11: =SUM(S8:S10) -> -8.1131983 | T11: =SUM(T8:T10) -> -4.0938673 | U11: =SUM(U8:U10) -> 49.809178 | V11: =SUM(V8:V10) -> 52.218236 | W11: =SUM(W8:W10) -> 59.000498
B12: ( - ) Sales and marketing | F12: =-'Cash Flow Assumptions'!N57 -> -84.467 | G12: =-'Cash Flow Assumptions'!O57 -> -89.620569 | H12: =-'Cash Flow Assumptions'!P57 -> -101.75747 | I12: =-'Cash Flow Assumptions'!Q57 -> -120.81704 | J12: =-'Cash Flow Assumptions'!R57 -> -127.62597 | K12: =-'Cash Flow Assumptions'!S57 -> -135.23448 | M12: -85.352911 | N12: -92.124237 | O12: -93.773801 | P12: -97.760273 | Q12: -120.90152 | S12: =G12-M12 -> -4.2676588 | T12: =H12-N12 -> -9.6332318 | U12: =I12-O12 -> -27.043242 | V12: =J12-P12 -> -29.8657 | W12: =K12-Q12 -> -14.332956
B13: ( - ) Research and development | F13: =-'Cash Flow Assumptions'!N63 -> -69.104 | G13: =-'Cash Flow Assumptions'!O63 -> -80.115288 | H13: =-'Cash Flow Assumptions'!P63 -> -81.868439 | I13: =-'Cash Flow Assumptions'!Q63 -> -86.402417 | J13: =-'Cash Flow Assumptions'!R63 -> -79.862851 | K13: =-'Cash Flow Assumptions'!S63 -> -72.534793 | M13: -70.28519 | N13: -63.611297 | O13: -72.801916 | P13: -76.021759 | Q13: -93.761217 | S13: =G13-M13 -> -9.8300981 | T13: =H13-N13 -> -18.257142 | U13: =I13-O13 -> -13.600501 | V13: =J13-P13 -> -3.8410917 | W13: =K13-Q13 -> 21.226424
B14: ( - ) General and administrative | F14: =-'Cash Flow Assumptions'!N69 -> -29.802 | G14: =-'Cash Flow Assumptions'!O69 -> -32.046115 | H14: =-'Cash Flow Assumptions'!P69 -> -35.250727 | I14: =-'Cash Flow Assumptions'!Q69 -> -38.7758 | J14: =-'Cash Flow Assumptions'!R69 -> -42.65338 | K14: =-'Cash Flow Assumptions'!S69 -> -46.918717 | M14: -27.872 | N14: -38.831872 | O14: -38.058147 | P14: -39.744731 | Q14: -42.557224 | S14: =G14-M14 -> -4.1741159 | T14: =H14-N14 -> 3.5811447 | U14: =I14-O14 -> -0.71765288 | V14: =J14-P14 -> -2.9086486 | W14: =K14-Q14 -> -4.3614931
B15: Income from Operations | F15: =SUM(F11:F14) -> 47.142 | G15: =SUM(G11:G14) -> 52.606954 | H15: =SUM(H11:H14) -> 70.181522 | I15: =SUM(I11:I14) -> 97.535842 | J15: =SUM(J11:J14) -> 112.81243 | K15: =SUM(K11:K14) -> 129.97619 | M15: =SUM(M11:M14) -> 78.992025 | N15: =SUM(N11:N14) -> 98.584618 | O15: =SUM(O11:O14) -> 89.08806 | P15: =SUM(P11:P14) -> 97.209634 | Q15: =SUM(Q11:Q14) -> 68.443718 | S15: =SUM(S11:S14) -> -26.385071 | T15: =SUM(T11:T14) -> -28.403096 | U15: =SUM(U11:U14) -> 8.4477821 | V15: =SUM(V11:V14) -> 15.602796 | W15: =SUM(W11:W14) -> 61.532473
B16: ( + ) Interest income | F16: ='Cash Flow Assumptions'!N78 -> 11.628 | G16: ='Cash Flow Assumptions'!O78 -> 12.093349 | H16: ='Cash Flow Assumptions'!P78 -> 12.577321 | I16: ='Cash Flow Assumptions'!Q78 -> 13.080661 | J16: ='Cash Flow Assumptions'!R78 -> 13.604145 | K16: ='Cash Flow Assumptions'!S78 -> 14.148579 | M16: 3.6330332 | N16: 2.1519445 | O16: 2.4470286 | P16: 2.769844 | Q16: 3.1351663 | S16: =G16-M16 -> 8.4603157 | T16: =H16-N16 -> 10.425376 | U16: =I16-O16 -> 10.633633 | V16: =J16-P16 -> 10.834301 | W16: =K16-Q16 -> 11.013413
B17: ( + / - ) Interest and other income (expense), net | F17: ='Debt Schedule'!F12 -> -7.5043941 | G17: ='Debt Schedule'!G12 -> -7.5495636 | H17: ='Debt Schedule'!H12 -> -7.5962823 | I17: ='Debt Schedule'!I12 -> -7.6446036 | J17: ='Debt Schedule'!J12 -> -6.8556564 | K17: ='Debt Schedule'!K12 -> -6.1875 | M17: -6.693 | N17: -0.02 | O17: -0.02 | P17: -0.02 | Q17: -0.02 | S17: =G17-M17 -> -0.85656357 | T17: =H17-N17 -> -7.5762823 | U17: =I17-O17 -> -7.6246036 | V17: =J17-P17 -> -6.8356564 | W17: =K17-Q17 -> -6.1675
B18: Income before income taxes | F18: =SUM(F15:F17) -> 51.265606 | G18: =SUM(G15:G17) -> 57.150739 | H18: =SUM(H15:H17) -> 75.162561 | I18: =SUM(I15:I17) -> 102.9719 | J18: =SUM(J15:J17) -> 119.56092 | K18: =SUM(K15:K17) -> 137.93727 | M18: =SUM(M15:M16) -> 82.625058 | N18: =SUM(N15:N16) -> 100.73656 | O18: =SUM(O15:O16) -> 91.535089 | P18: =SUM(P15:P16) -> 99.979478 | Q18: =SUM(Q15:Q16) -> 71.578885 | T18: =SUM(T15:T17) -> -25.554002 | U18: =SUM(U15:U17) -> 11.456811 | V18: =SUM(V15:V17) -> 19.601441 | W18: =SUM(W15:W17) -> 66.378385
B19: ( - ) Provision for income taxes | F19: =-F18*Assumptions!$D$90 -> -10.765777 | G19: =-G18*Assumptions!$D$90 -> -12.001655 | H19: =-H18*Assumptions!$D$90 -> -15.784138 | I19: =-I18*Assumptions!$D$90 -> -21.624099 | J19: =-J18*Assumptions!$D$90 -> -25.107793 | K19: =-K18*Assumptions!$D$90 -> -28.966827 | M19: -7.8329996 | N19: -15.302484 | O19: -8.8315089 | P19: -9.6759478 | Q19: -6.8358885 | S19: =G19-M19 -> -4.1686556 | T19: =H19-N19 -> -0.48165335 | U19: =I19-O19 -> -12.79259 | V19: =J19-P19 -> -15.431845 | W19: =K19-Q19 -> -22.130938
B20: Net Income | F20: =SUM(F18:F19) -> 40.499829 | G20: =SUM(G18:G19) -> 45.149084 | H20: =SUM(H18:H19) -> 59.378423 | I20: =SUM(I18:I19) -> 81.347801 | J20: =SUM(J18:J19) -> 94.453126 | K20: =SUM(K18:K19) -> 108.97044 | M20: =SUM(M18:M19) -> 74.792058 | N20: =SUM(N18:N19) -> 85.434078 | O20: =SUM(O18:O19) -> 82.70358 | P20: =SUM(P18:P19) -> 90.30353 | Q20: =SUM(Q18:Q19) -> 64.742996 | S20: =SUM(S18:S19) -> -4.1686556 | T20: =SUM(T18:T19) -> -26.035655 | U20: =SUM(U18:U19) -> -1.3357788 | V20: =SUM(V18:V19) -> 4.1695957 | W20: =SUM(W18:W19) -> 44.247447
B21: ( + ) Depreciation | F21: ='Cash Flow Assumptions'!N84 -> 14.859 | G21: ='Cash Flow Assumptions'!O84 -> 16.38829 | H21: ='Cash Flow Assumptions'!P84 -> 18.60768 | I21: ='Cash Flow Assumptions'!Q84 -> 22.092972 | J21: ='Cash Flow Assumptions'!R84 -> 23.338073 | K21: ='Cash Flow Assumptions'!S84 -> 24.729387 | M21: 16.586 | N21: 6.6 | O21: 6.8 | P21: 6.8 | Q21: 6.8 | S21: =G21-M21 -> -0.19771034 | T21: =H21-N21 -> 12.00768 | U21: =I21-O21 -> 15.292972 | V21: =J21-P21 -> 16.538073 | W21: =K21-Q21 -> 17.929387
B22: ( + ) Amortization | F22: ='Cash Flow Assumptions'!N75 -> 1.341 | G22: ='Cash Flow Assumptions'!O75 -> 2.473 | H22: ='Cash Flow Assumptions'!P75 -> 3.279 | I22: ='Cash Flow Assumptions'!Q75 -> 3.279 | J22: ='Cash Flow Assumptions'!R75 -> 3.197 | K22: ='Cash Flow Assumptions'!S75 -> 2.025 | M22: 2.473 | N22: 3.279 | O22: 3.279 | P22: 3.197 | Q22: 2.025 | S22: =G22-M22 -> 0 | T22: =H22-N22 -> 0 | U22: =I22-O22 -> 0 | V22: =J22-P22 -> 0 | W22: =K22-Q22 -> 0
B23: ( - ) Capital Expenditures | F23: =-'Cash Flow Assumptions'!N90 -> -20.128 | G23: =-'Cash Flow Assumptions'!O90 -> -20.59727 | H23: =-'Cash Flow Assumptions'!P90 -> -21.567364 | I23: =-'Cash Flow Assumptions'!Q90 -> -23.446956 | J23: =-'Cash Flow Assumptions'!R90 -> -22.486569 | K23: =-'Cash Flow Assumptions'!S90 -> -21.409294 | M23: -6.53 | N23: -4 | O23: -4 | P23: -4 | Q23: -4 | S23: =G23-M23 -> -14.06727 | T23: =H23-N23 -> -17.567364 | U23: =I23-O23 -> -19.446956 | V23: =J23-P23 -> -18.486569 | W23: =K23-Q23 -> -17.409294
B24: ( + / - ) Δ Net Working Capital | F24: =-'Cash Flow Assumptions'!N96 -> 23.706 | G24: =-'Cash Flow Assumptions'!O96 -> 1.9929944 | H24: =-'Cash Flow Assumptions'!P96 -> 4.4229038 | I24: =-'Cash Flow Assumptions'!Q96 -> 8.5270262 | J24: =-'Cash Flow Assumptions'!R96 -> 3.9800101 | K24: =-'Cash Flow Assumptions'!S96 -> 4.8902447 | M24: 9.1281268 | N24: 3.286564 | O24: 0.27268971 | P24: 1.2588194 | Q24: 2.0991666 | S24: =G24-M24 -> -7.1351324 | T24: =H24-N24 -> 1.1363399 | U24: =I24-O24 -> 8.2543365 | V24: =J24-P24 -> 2.7211907 | W24: =K24-Q24 -> 2.7910781
B25: ( + ) Net New Debt | F25: 0 | G25: 0 | H25: 0 | I25: 0 | J25: 0 | K25: 0 | M25: 0 | N25: 0 | O25: 0 | P25: 0 | Q25: 0 | S25: =G25-M25 -> 0 | T25: =H25-N25 -> 0 | U25: =I25-O25 -> 0 | V25: =J25-P25 -> 0 | W25: =K25-Q25 -> 0
A26: p | B26: FCFE | F26: =SUM(F20:F25) -> 60.277829 | G26: =SUM(G20:G25) -> 45.406098 | H26: =SUM(H20:H25) -> 64.120642 | I26: =SUM(I20:I25) -> 91.799843 | J26: =SUM(J20:J25) -> 102.48164 | K26: =SUM(K20:K25) -> 119.20578 | M26: =SUM(M20:M25) -> 96.449185 | N26: =SUM(N20:N25) -> 94.599642 | O26: =SUM(O20:O25) -> 89.05527 | P26: =SUM(P20:P25) -> 97.559349 | Q26: =SUM(Q20:Q25) -> 71.667163 | S26: =G26-M26 -> -51.043087 | T26: =H26-N26 -> -30.479 | U26: =I26-O26 -> 2.7445733 | V26: =J26-P26 -> 4.9222907 | W26: =K26-Q26 -> 47.538619
B28: Memo: FCFE excl. debt issuance | F28: =SUM(F20:F24) -> 60.277829 | G28: =SUM(G20:G24) -> 45.406098 | H28: =SUM(H20:H24) -> 64.120642 | I28: =SUM(I20:I24) -> 91.799843 | J28: =SUM(J20:J24) -> 102.48164 | K28: =SUM(K20:K24) -> 119.20578 | M28: =SUM(M20:M24) -> 96.449185 | N28: =SUM(N20:N24) -> 94.599642 | O28: =SUM(O20:O24) -> 89.05527 | P28: =SUM(P20:P24) -> 97.559349 | Q28: =SUM(Q20:Q24) -> 71.667163

Sheet OUT-DCF
C1: A10 Networks, Inc.
B3: p | C3: Projected Financials
C5: ($ in Millions) | G5: Actual | H5: Projected | M5: Terminal | N5: ="'"&RIGHT(H6,2)&" - '"&RIGHT(L6,2) -> '26 - '30
G6: ='Cash Flow Assumptions'!N$10 -> FY'25 | H6: ='Cash Flow Assumptions'!O$10 -> FY'26 | I6: ='Cash Flow Assumptions'!P$10 -> FY'27 | J6: ='Cash Flow Assumptions'!Q$10 -> FY'28 | K6: ='Cash Flow Assumptions'!R$10 -> FY'29 | L6: ='Cash Flow Assumptions'!S$10 -> FY'30 | M6: Year | N6: CAGR | P6: Forecast Years (Round-Up)
C7: Product Revenue | G7: ='Operating Model Output'!F6 -> 167.086 | H7: ='Operating Model Output'!G6 -> 193.71045 | I7: ='Operating Model Output'!H6 -> 233.7422 | J7: ='Operating Model Output'!I6 -> 298.4383 | K7: ='Operating Model Output'!J6 -> 319.2373 | L7: ='Operating Model Output'!K6 -> 342.80114 | M7: =L7 -> 342.80114 | N7: =($L7/$H7)^(1/($P$7-1))-1 -> 0.1533797 | P7: =Assumptions!D34 -> 5
C8: YoY Growth (%) | G8: =IFERROR(G7/F7-1,"n.a") -> n.a | H8: =IFERROR(H7/G7-1,"n.a") -> 0.15934577 | I8: =IFERROR(I7/H7-1,"n.a") -> 0.20665767 | J8: =IFERROR(J7/I7-1,"n.a") -> 0.27678402 | K8: =IFERROR(K7/J7-1,"n.a") -> 0.069692792 | L8: =IFERROR(L7/K7-1,"n.a") -> 0.07381291
C10: Services Revenue | G10: ='Operating Model Output'!F7 -> 123.471 | H10: ='Operating Model Output'!G7 -> 126.75071 | I10: ='Operating Model Output'!H7 -> 130.11753 | J10: ='Operating Model Output'!I7 -> 133.57378 | K10: ='Operating Model Output'!J7 -> 137.12185 | L10: ='Operating Model Output'!K7 -> 140.76415 | M10: =L10 -> 140.76415 | N10: =($L10/$H10)^(1/($P$7-1))-1 -> 0.026562559
C11: YoY Growth (%) | G11: =IFERROR(G10/F10-1,"n.a") -> n.a | H11: =IFERROR(H10/G10-1,"n.a") -> 0.026562559 | I11: =IFERROR(I10/H10-1,"n.a") -> 0.026562559 | J11: =IFERROR(J10/I10-1,"n.a") -> 0.026562559 | K11: =IFERROR(K10/J10-1,"n.a") -> 0.026562559 | L11: =IFERROR(L10/K10-1,"n.a") -> 0.026562559
C13: Total Revenue | G13: ='Operating Model Output'!F8 -> 290.557 | H13: ='Operating Model Output'!G8 -> 320.46115 | I13: ='Operating Model Output'!H8 -> 363.85973 | J13: ='Operating Model Output'!I8 -> 432.01209 | K13: ='Operating Model Output'!J8 -> 456.35915 | L13: ='Operating Model Output'!K8 -> 483.56529 | M13: =L13 -> 483.56529 | N13: =($L13/$H13)^(1/($P$7-1))-1 -> 0.10833215
C14: YoY Growth (%) | G14: =IFERROR(G13/F13-1,"n.a") -> n.a | H14: =IFERROR(H13/G13-1,"n.a") -> 0.10292009 | I14: =IFERROR(I13/H13-1,"n.a") -> 0.13542538 | J14: =IFERROR(J13/I13-1,"n.a") -> 0.18730394 | K14: =IFERROR(K13/J13-1,"n.a") -> 0.056357359 | L14: =IFERROR(L13/K13-1,"n.a") -> 0.059615638
C16: ( - ) Total Expenses | G16: =SUM('Operating Model Output'!F12:F14) -> -183.373 | H16: =SUM('Operating Model Output'!G12:G14) -> -201.78197 | I16: =SUM('Operating Model Output'!H12:H14) -> -218.87663 | J16: =SUM('Operating Model Output'!I12:I14) -> -245.99526 | K16: =SUM('Operating Model Output'!J12:J14) -> -250.1422 | L16: =SUM('Operating Model Output'!K12:K14) -> -254.68799
C17: YoY Growth (%) | G17: =IFERROR(G16/F16-1,"n.a") -> n.a | H17: =IFERROR(H16/G16-1,"n.a") -> 0.10039086 | I17: =IFERROR(I16/H16-1,"n.a") -> 0.084718477 | J17: =IFERROR(J16/I16-1,"n.a") -> 0.12389914 | K17: =IFERROR(K16/J16-1,"n.a") -> 0.016857816 | L17: =IFERROR(L16/K16-1,"n.a") -> 0.0181728
